BEGIN:VCALENDAR
VERSION:2.0
PRODID:-//Revista Expertos - ECPv5.16.1//NONSGML v1.0//EN
CALSCALE:GREGORIAN
METHOD:PUBLISH
X-ORIGINAL-URL:https://revistaexpertos.ar
X-WR-CALDESC:Events for Revista Expertos
REFRESH-INTERVAL;VALUE=DURATION:PT1H
X-Robots-Tag:noindex
X-PUBLISHED-TTL:PT1H
BEGIN:VTIMEZONE
TZID:America/Argentina/Buenos_Aires
BEGIN:STANDARD
TZOFFSETFROM:-0300
TZOFFSETTO:-0300
TZNAME:-03
DTSTART:20220101T000000
END:STANDARD
END:VTIMEZONE
BEGIN:VEVENT
DTSTART;TZID=America/Argentina/Buenos_Aires:20221018T090000
DTEND;TZID=America/Argentina/Buenos_Aires:20221018T130000
DTSTAMP:20260425T215803
CREATED:20220901T180616Z
LAST-MODIFIED:20220901T180616Z
UID:57211-1666083600-1666098000@revistaexpertos.ar
SUMMARY:Foro Hidrogeno
DESCRIPTION:La crisis energética internacional como también los desafíos locales del sector resaltan una clara y urgente necesidad de una hoja de ruta estratégica para el desarrollo del hidrógeno en el país.\nEn este encuentro dialogaremos con expertos sobre las oportunidades que ofrece este mercado en Argentina\, pero también sobre los desafíos que hay que enfrentar. Además\, ahondaremos en el potencial de la cooperación con Alemania como partner estratégico en este camino y compartiremos experiencias y soluciones para impulsar el desarrollo del hidrógeno\, tanto para el abastecimiento local como para los mercados de exportación.
URL:https://revistaexpertos.ar/evento/foro-hidrogeno/
LOCATION:AHK\, Av. Corrientes 327\, Piso 24\, Salón Bosch\, CABA\, Ciudad de Buenos Aires\, Buenos Aires\, 1043\, Argentina
CATEGORIES:Capacitaciones
ATTACH;FMTTYPE=image/png:https://revistaexpertos.ar/wp-content/uploads/2022/09/foro-hidrogeno.png
ORGANIZER;CN="AHK":MAILTO:afernandez@ahkargentina.com.ar
END:VEVENT
END:VCALENDAR